BEGIN:VCALENDAR
VERSION:2.0
PRODID:icalendar-ruby
CALSCALE:GREGORIAN
METHOD:PUBLISH
BEGIN:VEVENT
DTSTAMP:20260422T223949Z
UID:17-375754@surfsideumc.org
DTSTART:20261020T210000Z
DTEND:20261020T223000Z
CLASS:PUBLIC
CREATED:20260422T172619
DESCRIPTION:Exciting news from our Surfside UMC Children’s and Youth Prog
 rams!\nOur Children and Youth Programs will all beginning on Tuesday\, Sep
 tember 9. Our meeting time is 5 - 6:30 p.m.\nThis year we are moving our o
 lder youth programs from Sunday evening to Tuesday evenings. All of  our 
 children and youth including middle and high school youth (6th – 12th gr
 ades) and Kindergarten – 5th grade will be meeting on the same day and a
 t the same time.  This is exciting news for our 6th graders as they will 
 be “moving up” to a more age appropriate group. \nOur Tuesday evening
 s will begin at 5 p.m. with a light supper.  Followed by a Bible Lesson a
 nd small groups.  The small group time is designed to build on the teachi
 ngs of the Bible Lesson in an age appropriate manner.\nWe look forward to 
 seeing our young friends and some new friends join in our programs! Childr
 en and their families do not need to be a member of Surfside UMC to partic
 ipate in our youth programs.  Everyone is invited!!  Please see the atta
 ched flyer.\nWe are really excited about the changes to our program for ch
 ildren and youth this year.  Please let us know if you have any questions
  or concerns. 
LAST-MODIFIED:20260422T172619
LOCATION:
SUMMARY:Children and Youth Programs
URL;VALUE=URI:https://surfsideumc.org/events/children-and-youth-programs/20
 26-10-20
ATTACH;FILENAME=Children-News.png;FMTTYPE=image/png:https://dq5pwpg1q8ru0.c
 loudfront.net/2025/08/17/14/38/23/abd7975e-cf45-4021-944c-12c2225bb531/Chi
 ldren-News.png
END:VEVENT
END:VCALENDAR
