BEGIN:VCALENDAR
VERSION:2.0
PRODID:icalendar-ruby
CALSCALE:GREGORIAN
METHOD:PUBLISH
BEGIN:VEVENT
DTSTAMP:20260422T091729Z
UID:10-374597@surfsideumc.org
DTSTART:20261018T123000Z
DTEND:20261018T133000Z
CLASS:PUBLIC
CREATED:20260421T213259
DESCRIPTION:
LAST-MODIFIED:20260421T213259
LOCATION:800 13th Ave N.\, Surfside Beach SC\, 29575
SUMMARY:Sunday Worship (Traditional)
URL;VALUE=URI:https://surfsideumc.org/events/sunday-worship-traditional--10
 /2026-10-18
ATTACH;FILENAME=Sunday-Worship-0830.png;FMTTYPE=image/png:https://dq5pwpg1q
 8ru0.cloudfront.net/2026/03/15/01/35/17/a3df65d8-4119-4a34-ae25-a06a5254c3
 0c/Sunday-Worship-0830.png
END:VEVENT
END:VCALENDAR
